BEGIN:VCALENDAR
VERSION:2.0
PRODID:-//artifica.one//Agglo-Montargoise//FR
CALSCALE:GREGORIAN
METHOD:PUBLISH
BEGIN:VEVENT
SUMMARY:Salon du Livre - 4eme édition
UID:2188
SEQUENCE:0
STATUS:CONFIRMED
TRANSP:TRANSPARENT
DTSTART:20240602T060000Z
DTEND:20240602T180000Z
DTSTAMP:20240503T123102Z
CATEGORIES:Culture
DESCRIPTION:
URL:https://www.agglo-montargoise.fr/agenda/salon-du-livre-4eme-edition-2188
END:VEVENT
END:VCALENDAR
