BEGIN:VCALENDAR
VERSION:2.0
PRODID:-//artifica.one//Agglo-Montargoise//FR
CALSCALE:GREGORIAN
METHOD:PUBLISH
BEGIN:VEVENT
SUMMARY:Octobre Rose
UID:2425
SEQUENCE:0
STATUS:CONFIRMED
TRANSP:TRANSPARENT
DTSTART:20241013T060000Z
DTEND:20241013T180000Z
DTSTAMP:20240911T073754Z
CATEGORIES:Sport
DESCRIPTION:Dimanche 13 octobre 2024, nous vous donnons rendez
 -vous tous en rose ! Cette année pour octobre ro
 se une balade pédestre et/ou une course rose sont
  organisées au profit de la Ligue Contre le Canc
 er.
URL:https://www.agglo-montargoise.fr/agenda/octobre-rose-2425
END:VEVENT
END:VCALENDAR
